BEGIN:VCALENDAR
VERSION:2.0
PRODID:-//Tukios.com/
BEGIN:VEVENT
UID:9efa41fa-46cc-41b8-8379-7d8de8bffe54@www.michaelebrownfuneralservices.com
DTSTAMP:20260421T020649Z
DTSTART:20260422T200000Z
DTEND:20260422T230000Z
SUMMARY:Visitation
DESCRIPTION:
URL:https://www.michaelebrownfuneralservices.com/obituaries/dr-robert-blanchet
LOCATION: 6 Green Street  Cazenovia NY 13035
GEO:42.9322423;-75.8566754
END:VEVENT
END:VCALENDAR