BEGIN:VCALENDAR
VERSION:2.0
PRODID:-//Tukios.com/
BEGIN:VEVENT
UID:946a5984-fb62-46af-a80e-655e6ae02a3d@www.michaelebrownfuneralservices.com
DTSTAMP:20260421T021353Z
DTSTART:20260423T140000Z
DTEND:20260423T150000Z
SUMMARY:Mass
DESCRIPTION:
URL:https://www.michaelebrownfuneralservices.com/obituaries/dr-robert-blanchet
LOCATION: 6 Green Street  Cazenovia NY 13035
GEO:42.9322423;-75.8566754
END:VEVENT
END:VCALENDAR